Workbook

Sheet 表紙
AN6: 小学館集英社プロダクション様
AN7: kintone
AN8: 検索取得プラグイン開発
AN9: 基本設計書
AK11: 第 | AL11: 0.9 | AN11: 版
AF21: 承認 | AI21: 審査 | AL21: 作成
AL23: PVC

Sheet 変更履歴
A1: =表紙!$AN$7 -> kintone | O1: =表紙!$AN$9 -> 基本設計書 | AI1: 第0.9版
A2: =表紙!$AN$8 -> 検索取得プラグイン開発 | O2: 変更履歴 | AI2: 更新日： | AK2: 2024/12/18
A4: 変更履歴
A6: 日付 | E6: 版 | G6: 説明 | AJ6: 作成者／変更者
A7: 45644 | E7: 第0.9版 | G7: 新規作成 | AJ7: 仲宗根

Sheet はじめに
A1: =表紙!$AN$7 -> kintone | O1: =表紙!$AN$9 -> 基本設計書 | AI1: =変更履歴!$AI$1 -> 第0.9版
A2: =表紙!$AN$8 -> 検索取得プラグイン開発 | O2: はじめに | AI2: 更新日： | AK2: =変更履歴!AK2 -> 2024/12/18
B5: はじめに
C7: 本書の目的
D8: =A2&"の画面設計を行い実装のための共通基盤とする事。" -> 検索取得プラグイン開発の画面設計を行い実装のための共通基盤とする事。
C10: 本書の記述内容
D11: ="本書は、"&A2&"がユーザーに対し、どのような機能・インターフェースを画面で提供するかについて定義する。" -> 本書は、検索取得プラグイン開発がユーザーに対し、どのような機能・インターフェースを画面で提供するかについて定義する。

Sheet プラグインの概要
A1: =表紙!$AN$7 -> kintone | O1: =表紙!$AN$9 -> 基本設計書 | AI1: =変更履歴!$AI$1 -> 第0.9版
A2: =表紙!$AN$8 -> 検索取得プラグイン開発 | O2: =MID(CELL("filename",$A$1),FIND("]",CELL("filename",$A$1))+1,31) -> プラグインの概要 | AI2: 更新日： | AK2: =変更履歴!AK2 -> 2024/12/18
B5: プラグインの概要
C7: 検索取得プラグインは、複数のアプリのデータを１アプリに集約する機能を提供する。
C8: 複数のアプリのレコードを横断検索したいという目的で作成するプラグインとなる。

Sheet 設定画面
A1: =表紙!$AN$7 -> kintone | O1: =表紙!$AN$9 -> 基本設計書 | AI1: =変更履歴!$AI$1 -> 第0.9版
A2: =表紙!$AN$8 -> 検索取得プラグイン開発 | O2: =MID(CELL("filename",$A$1),FIND("]",CELL("filename",$A$1))+1,31) -> 設定画面 | AI2: 更新日： | AK2: =変更履歴!AK2 -> 2024/12/18
B5: プラグインの設定画面
B42: (1) | C42: 集約ボタン名
C43: 必須項目
C44: 初期値は「集約」
B46: (2) | C46: 取得元アプリ設定領域
C47: 取得元アプリ別の設定領域。
C48: 新規設定時は１領域のみ表示する。
C49: 右の＋ーアイコンから領域単位で増減可とする。１領域のみの場合はーアイコンは非表示。
C50: (6)連結条件の設定欄は、2つ目以降の領域のみ用意する。
B52: (３) | C52: 取得元アプリ
C53: このアプリにデータを集約する際の取得元アプリを選択する。
C54: 必須項目。
C55: ドロップダウンの動作は後述の「取得元アプリのドロップダウン」を参照。
C56: 変更された場合、同領域内の(4)、(5)、(6)、(7)はクリアする。
B58: (４) | C58: テーブル
C59: 任意入力項目。
C60: サブテーブル内のデータを集約したい場合に対象テーブルを指定する。指定可能なサブテーブルは１つのみ。
C61: ドロップダウンの動作は後述の「フィールドのドロップダウン」を参照。
D62: (2)のアプリのサブテーブルを選択候補とする
B64: (5) | C64: 取得フィールド
C65: このアプリにデータを集約する際の、取得元アプリとこのアプリのフィールドのマッピングを設定する。
C66: ドロップダウンの動作は後述の「フィールドのドロップダウン」を参照。
C67: 少なくとも１フィールドの組み合わせは必須とする。
C68: 右の＋－アイコンで行を増減可とする。１行のみの場合はーアイコンは非表示。
C69: 「取得元アプリのフィールド」と「このアプリのフィールド」については、後述の「取得フィールド設定で指定可能なフィールドの組み合わせ」以外は設定できないよう制御する。
C71: 取得元アプリのフィールド
D72: (2)のアプリのフィールドのうち、後述の「取得フィールド設定で指定可能なフィールドの組み合わせ」に記載のフィールドのみ選択候補とする。
D73: 紐づく「このアプリのフィールド」が入力されている場合は、それと組み合わせ可能なフィールドのみ選択候補とする。
C75: このアプリのフィールド
D76: プラグインの導入対象のアプリのフィールドのうち、後述の「取得フィールド設定で指定可能なフィールドの組み合わせ」に記載のフィールドのみ選択候補とする。
D77: 紐づく「取得元アプリのフィールド」が選択されている場合は、それと組み合わせ可能なフィールドのみ選択候補とする。
C79: 取得フィールド設定で指定可能なフィールドの組み合わせ
E81: 取得元アプリのフィールド | O81: このアプリのフィールド | U81: 補足・制約事項など
E83: 文字列（1行） | O83: 文字列（1行）
E84: 文字列（複数行） | O84: 文字列（複数行）
E85: リッチエディター | O85: リッチエディター
E86: 数値 | O86: 数値
E87: 数値 | O87: 文字列（1行）
...

Sheet 一覧画面イメージ

Sheet 動作イメージ1
B2: 社員マスタ | H2: 設定画面イメージ
B3: 社員番号 | C3: 氏名 | D3: メールアドレス | E3: 部署コード | F3: 部署名 | AJ3: ＋
B4: 0001 | C4: 佐藤 太郎 | D4: sato@example.com | E4: A001 | F4: 制作部 | I4: 取得元アプリ | O4: 社員マスタ | V4: ▼
B5: 0002 | C5: 鈴木 花子 | D5: suzuki@example.com | E5: A001 | F5: 制作部
B6: 0003 | C6: 田中 三郎 | D6: tanaka@example.com | E6: A002 | F6: 管理部 | I6: テーブル | V6: ▼
B8: 利用PCマスタ | I8: 取得フィールド | O8: 取得元アプリのフィールド | Z8: このアプリのフィールド
B9: 社員番号 | C9: PC管理番号 | D9: PC名 | O9: 社員番号 | V9: ▼ | X9: → | Z9: 社員番号 | AG9: ▼ | AH9: ＋
B10: 0001 | C10: PC011 | D10: ノートPC1 | O10: 氏名 | V10: ▼ | X10: → | Z10: 氏名 | AG10: ▼ | AH10: ＋
B11: 0002 | C11: PC011 | D11: ノートPC2
B12: 0003 | C12: PC021 | D12: デスクトップ1 | I12: 絞込条件 | O12: 取得元アプリのフィールド
O13: 部署コード | V13: ▼
B14: 検索データ取得アプリ
B15: 社員番号 | C15: 氏名 | D15: PC管理番号 | E15: PC名
B16: 0001 | C16: 佐藤 太郎 | D16: PC011 | E16: ノートPC1 | AJ16: ＋
B17: 0002 | C17: 鈴木 花子 | D17: PC011 | E17: ノートPC2 | I17: 取得元アプリ | O17: 利用PCマスタ | V17: ▼
B18: 0003 | C18: 田中 三郎 | D18: PC021 | E18: デスクトップ1
I19: テーブル | V19: ▼
I21: 連結条件 | O21: 取得元アプリのフィールド | Z21: このアプリのフィールド
O22: 社員番号 | V22: ▼ | X22: ＝ | Z22: 社員番号 | AG22: ▼ | AH22: ＋
I24: 取得フィールド | O24: 取得元アプリのフィールド | Z24: このアプリのフィールド
O25: PC管理番号 | V25: ▼ | X25: → | Z25: PC管理番号 | AG25: ▼ | AH25: ＋
O26: PC名 | V26: ▼ | X26: → | Z26: PC名 | AG26: ▼ | AH26: ＋

Sheet 動作イメージ2
B2: 社員マスタ | J2: 設定画面イメージ
B3: 社員番号 | C3: 氏名 | D3: メールアドレス | E3: 部署コード | F3: 部署名 | AM3: ＋
B4: 0001 | C4: 佐藤 太郎 | D4: sato@example.com | E4: A001 | F4: 制作部 | K4: 取得元アプリ | Q4: 社員マスタ | X4: ▼
B5: 0002 | C5: 鈴木 花子 | D5: suzuki@example.com | E5: A001 | F5: 制作部
B6: 0003 | C6: 田中 三郎 | D6: tanaka@example.com | E6: A002 | F6: 管理部 | K6: テーブル | X6: ▼
B8: 資産管理マスタ | K8: 取得フィールド | Q8: 取得元アプリのフィールド | AB8: このアプリのフィールド
F9: 利用者テーブル | Q9: 社員番号 | X9: ▼ | Z9: → | AB9: 社員番号 | AI9: ▼ | AJ9: ＋
B10: 資産管理番号 | C10: 資産名 | D10: 管理責任者 | E10: 設置場所 | F10: 社員番号 | G10: 氏名 | Q10: 氏名 | X10: ▼ | Z10: → | AB10: 氏名 | AI10: ▼ | AJ10: ＋
B11: S001 | C11: タブレットA | D11: ○○ ○○ | E11: 制作室 | F11: 0001 | G11: 佐藤 太郎
F12: 0002 | G12: 鈴木 花子 | AM12: ＋
B13: S002 | C13: プロジェクターB | D13: ○○ ○○ | E13: 会議室 | F13: 0003 | G13: 田中 三郎 | K13: 取得元アプリ | Q13: 資産管理マスタ | X13: ▼
B14: S003 | C14: PC1 | D14: ○○ ○○ | E14: 制作室 | F14: 0001 | G14: 佐藤 太郎
F15: 0002 | G15: 鈴木 花子 | K15: テーブル | Q15: 利用者テーブル | X15: ▼
B16: S004 | C16: PC2 | D16: ○○ ○○ | E16: 制作室 | F16: 0001 | G16: 佐藤 太郎
F17: 0002 | G17: 鈴木 花子 | K17: 連結条件 | Q17: 取得元アプリのフィールド | AB17: このアプリのフィールド
Q18: 社員番号 | X18: ▼ | Z18: ＝ | AB18: 社員番号 | AI18: ▼ | AJ18: ＋
B19: ソフトウェア管理マスタ
E20: 導入先資産テーブル | K20: 取得フィールド | Q20: 取得元アプリのフィールド | AB20: このアプリのフィールド
B21: 管理コード | C21: ソフト名 | D21: ライセンス数 | E21: 資産管理番号 | F21: 資産名 | Q21: 資産管理番号 | X21: ▼ | Z21: → | AB21: 資産管理番号 | AI21: ▼ | AJ21: ＋
B22: S000001 | C22: 動画編集ソフトA | D22: 10 | E22: S003 | F22: PC1 | Q22: 資産名 | X22: ▼ | Z22: → | AB22: 資産名 | AI22: ▼ | AJ22: ＋
E23: S004 | F23: PC2
B24: S000002 | C24: 画像解析ソフトB | D24: 5 | E24: S003 | F24: PC1 | AM24: ＋
E25: S004 | F25: PC2 | K25: 取得元アプリ | Q25: ソフトウェア管理マスタ | X25: ▼
B27: 検索データ取得アプリ | K27: テーブル | Q27: 導入先資産テーブル | X27: ▼
B28: 社員番号 | C28: 氏名 | D28: 資産管理番号 | E28: 資産名 | F28: ソフト管理コード | G28: ソフト名
B29: 0001 | C29: 佐藤 太郎 | D29: S001 | E29: タブレットA | K29: 連結条件 | Q29: 取得元アプリのフィールド | AB29: このアプリのフィールド
B30: 0001 | C30: 佐藤 太郎 | D30: S003 | E30: PC1 | F30: S000001 | G30: 動画編集ソフトA | Q30: 資産管理番号 | X30: ▼ | Z30: ＝ | AB30: 資産管理番号 | AI30: ▼ | AJ30: ＋
B31: 0001 | C31: 佐藤 太郎 | D31: S003 | E31: PC1 | F31: S000002 | G31: 画像解析ソフトB
B32: 0001 | C32: 佐藤 太郎 | D32: S004 | E32: PC2 | F32: S000001 | G32: 動画編集ソフトA | K32: 取得フィールド | Q32: 取得元アプリのフィールド | AB32: このアプリのフィールド
B33: 0001 | C33: 佐藤 太郎 | D33: S004 | E33: PC2 | F33: S000002 | G33: 画像解析ソフトB | Q33: 管理コード | X33: ▼ | Z33: → | AB33: ソフト管理コード | AI33: ▼ | AJ33: ＋
B34: 0002 | C34: 鈴木 花子 | D34: S002 | E34: プロジェクターB | Q34: ソフト名 | X34: ▼ | Z34: → | AB34: ソフト名 | AI34: ▼ | AJ34: ＋
B35: 0003 | C35: 田中 三郎 | D35: S001 | E35: タブレットA
B36: 0003 | C36: 田中 三郎 | D36: S003 | E36: PC1 | F36: S000001 | G36: 動画編集ソフトA
B37: 0003 | C37: 田中 三郎 | D37: S003 | E37: PC1 | F37: S000002 | G37: 画像解析ソフトB
B38: 0003 | C38: 田中 三郎 | D38: S004 | E38: PC2 | F38: S000001 | G38: 動画編集ソフトA
B39: 0003 | C39: 田中 三郎 | D39: S004 | E39: PC2 | F39: S000002 | G39: 画像解析ソフトB
